BEGIN:VCALENDAR
VERSION:2.0
PRODID:-//ESV 1927 e.V. Ronshausen - ECPv6.15.20//NONSGML v1.0//EN
CALSCALE:GREGORIAN
METHOD:PUBLISH
X-WR-CALNAME:ESV 1927 e.V. Ronshausen
X-ORIGINAL-URL:https://esvronshausen.de
X-WR-CALDESC:Veranstaltungen für ESV 1927 e.V. Ronshausen
REFRESH-INTERVAL;VALUE=DURATION:PT1H
X-Robots-Tag:noindex
X-PUBLISHED-TTL:PT1H
BEGIN:VTIMEZONE
TZID:Europe/Berlin
BEGIN:DAYLIGHT
TZOFFSETFROM:+0100
TZOFFSETTO:+0200
TZNAME:CEST
DTSTART:20240331T010000
END:DAYLIGHT
BEGIN:STANDARD
TZOFFSETFROM:+0200
TZOFFSETTO:+0100
TZNAME:CET
DTSTART:20241027T010000
END:STANDARD
BEGIN:DAYLIGHT
TZOFFSETFROM:+0100
TZOFFSETTO:+0200
TZNAME:CEST
DTSTART:20250330T010000
END:DAYLIGHT
BEGIN:STANDARD
TZOFFSETFROM:+0200
TZOFFSETTO:+0100
TZNAME:CET
DTSTART:20251026T010000
END:STANDARD
BEGIN:DAYLIGHT
TZOFFSETFROM:+0100
TZOFFSETTO:+0200
TZNAME:CEST
DTSTART:20260329T010000
END:DAYLIGHT
BEGIN:STANDARD
TZOFFSETFROM:+0200
TZOFFSETTO:+0100
TZNAME:CET
DTSTART:20261025T010000
END:STANDARD
END:VTIMEZONE
BEGIN:VEVENT
DTSTART;TZID=Europe/Berlin:20251024T193000
DTEND;TZID=Europe/Berlin:20251024T235900
DTSTAMP:20260421T221222
CREATED:20251029T191932Z
LAST-MODIFIED:20260328T170613Z
UID:422-1761334200-1761350340@esvronshausen.de
SUMMARY:Jahreshauptversammlung 2025
DESCRIPTION:Hier klicken um Einladung herunterzuladen…
URL:https://esvronshausen.de/termin/jahreshauptversammlung/
LOCATION:Zur Krone\, Kasseler Str. 5\, Ronshausen\, Hessen\, 36217\, Germany
CATEGORIES:Jahreshauptversammlung
ORGANIZER;CN="ESV Ronshausen":MAILTO:info@esvronshausen.de
END:VEVENT
END:VCALENDAR