BEGIN:VCALENDAR
VERSION:2.0
PRODID:-//ESV 1927 e.V. Ronshausen - ECPv6.15.20//NONSGML v1.0//EN
CALSCALE:GREGORIAN
METHOD:PUBLISH
X-WR-CALNAME:ESV 1927 e.V. Ronshausen
X-ORIGINAL-URL:https://esvronshausen.de
X-WR-CALDESC:Veranstaltungen für ESV 1927 e.V. Ronshausen
REFRESH-INTERVAL;VALUE=DURATION:PT1H
X-Robots-Tag:noindex
X-PUBLISHED-TTL:PT1H
BEGIN:VTIMEZONE
TZID:Europe/Berlin
BEGIN:DAYLIGHT
TZOFFSETFROM:+0100
TZOFFSETTO:+0200
TZNAME:CEST
DTSTART:20250330T010000
END:DAYLIGHT
BEGIN:STANDARD
TZOFFSETFROM:+0200
TZOFFSETTO:+0100
TZNAME:CET
DTSTART:20251026T010000
END:STANDARD
BEGIN:DAYLIGHT
TZOFFSETFROM:+0100
TZOFFSETTO:+0200
TZNAME:CEST
DTSTART:20260329T010000
END:DAYLIGHT
BEGIN:STANDARD
TZOFFSETFROM:+0200
TZOFFSETTO:+0100
TZNAME:CET
DTSTART:20261025T010000
END:STANDARD
BEGIN:DAYLIGHT
TZOFFSETFROM:+0100
TZOFFSETTO:+0200
TZNAME:CEST
DTSTART:20270328T010000
END:DAYLIGHT
BEGIN:STANDARD
TZOFFSETFROM:+0200
TZOFFSETTO:+0100
TZNAME:CET
DTSTART:20271031T010000
END:STANDARD
END:VTIMEZONE
BEGIN:VEVENT
DTSTART;TZID=Europe/Berlin:20260412T140000
DTEND;TZID=Europe/Berlin:20260412T170000
DTSTAMP:20260421T115720
CREATED:20250801T160626Z
LAST-MODIFIED:20260413T173140Z
UID:1059-1776002400-1776013200@esvronshausen.de
SUMMARY:Spiel: SG Heinebach/Osterbach - ESV Ronshausen
DESCRIPTION:
URL:https://esvronshausen.de/termin/spiel-sg-heinebach-osterbach-esv-ronshausen/
LOCATION:Sportplatz Alheim\, Zum Alheimer Schlachtschiff\, Alheim\, Hessen\, 36211\, Germany
CATEGORIES:1. Mannschaft,Fußball,Kreisliga A
ATTACH;FMTTYPE=image/jpeg:https://esvronshausen.de/wp-content/uploads/2025/08/spieltag-23_saison-25-26.jpg
END:VEVENT
END:VCALENDAR